BEGIN:VCALENDAR
VERSION:2.0
PRODID:-//Library Market//iCal Export//EN
BEGIN:VEVENT
SUMMARY:Train-tastic Playtime
UID:6415
DTSTAMP:20260422T050000Z
DTSTART:20260519T213000Z
DTEND:20260519T233000Z
LOCATION:Pleasant Hills Public Library, 302 Old Clairton Road, Pittsburgh,
  PA 15236, United States
ROOM: Program Room
DESCRIPTION:Calling all train-lovers!  Stop by the program room between 5
 :30-7:30 and build a huge track!  This is a great time to build with othe
 rs.  We usually have a low-key art project for the adults too! No registr
 ation necessary.
URL:https://pleasanthills.librarycalendar.com/event/train-tastic-playtime-
 6415
END:VEVENT
END:VCALENDAR
