BEGIN:VCALENDAR
VERSION:2.0
PRODID:-//Library Market//iCal Export//EN
BEGIN:VEVENT
SUMMARY:Evening Sensory Playtime
UID:6417
DTSTAMP:20260422T050000Z
DTSTART:20260526T213000Z
DTEND:20260526T230000Z
LOCATION:Pleasant Hills Public Library, 302 Old Clairton Road, Pittsburgh,
  PA 15236, United States
ROOM: Program Room
DESCRIPTION:Can&#039;t make it to Sensory Playtime on Fridays during the d
 ay? Join us for a special evening Sensory Playtime! Use different senses t
 o explore various rotating play stations while socializing with new and ol
 d friends! Possible stations include sensory baskets, ball pit, water tabl
 e, light table, Kinetic sand, Playdoh, seasonal sensory bins, and more! G
 eared towards families with young children, ages 0 - 5. No registration ne
 cessary, just show up ready for fun!
URL:https://pleasanthills.librarycalendar.com/event/evening-sensory-playti
 me-6417
END:VEVENT
END:VCALENDAR
