BEGIN:VCALENDAR
VERSION:2.0
PRODID:-//Library Market//iCal Export//EN
BEGIN:VEVENT
SUMMARY:Drop-In Watercolors 18+
UID:6441
DTSTAMP:20260421T211200Z
DTSTART:20260518T143000Z
DTEND:20260518T153000Z
LOCATION:Pleasant Hills Public Library, 302 Old Clairton Road, Pittsburgh,
  PA 15236, United States
ROOM: Program Room
DESCRIPTION:Drop-in WatercolorsAdults of all abilities are invited to join
  us for a morning of creativity. We will have supplies out for an accessi
 ble watercolor craft.  We offer a safe and welcoming space to noodle arou
 nd with water and pigments and socialize.  This program is free-wheeling 
 and all about experimenting!  Blend colors, big brushes or small, a lot o
 f water or just a touch?  The choices are yours!If you are a caregiver or
  in charge of a group, we ask that you register so that we know how many t
 o expect, including yourself.   
URL:https://pleasanthills.librarycalendar.com/event/drop-watercolors-6441
END:VEVENT
END:VCALENDAR
